BEGIN:VCALENDAR
VERSION:2.0
PRODID:-//wp-events-plugin.com//7.2.3.1//EN
TZID:America/New_York
X-WR-TIMEZONE:America/New_York
BEGIN:VEVENT
UID:31@firstchurchjp.org
DTSTART:20260514T173000Z
DTEND:20260514T184500Z
DTSTAMP:20260320T162937Z
URL:https://firstchurchjp.org/events/elders-circle-2026-05-14/
SUMMARY:Elders Circle
DESCRIPTION:Join Rev. EB and fellow elders (around age 80 or older) for con
 versation and community. Meetings are at a private home.
ATTACH;FMTTYPE=image/jpeg:https://i0.wp.com/firstchurchjp.org/wp-content/u
 ploads/2025/07/small-group-icons.png?fit=1080%2C1080&ssl=1
END:VEVENT
END:VCALENDAR