BEGIN:VCALENDAR
VERSION:2.0
PRODID:-//wp-events-plugin.com//7.2.3.1//EN
TZID:America/New_York
X-WR-TIMEZONE:America/New_York
BEGIN:VEVENT
UID:17@firstchurchjp.org
DTSTART:20260604T213000Z
DTEND:20260604T223000Z
DTSTAMP:20250716T191807Z
URL:https://firstchurchjp.org/events/black-lives-matter-vigil-2026-06-04/
SUMMARY:Black Lives Matter Vigil
DESCRIPTION:Please join us for the monthly Vigil in Support of Black Lives 
 Matter\, first Thursday of every month\, from 5:30-6:30 pm on the lawn of 
 the First Baptist Church in Jamaica Plain\, 633 Centre Street. 
ATTACH;FMTTYPE=image/jpeg:https://i0.wp.com/firstchurchjp.org/wp-content/u
 ploads/2025/06/BLACK-LIVES-MATTER.jpg?fit=1080%2C1080&ssl=1
LOCATION:First Baptist Church in Jamaica Plain\, 633 Centre Street\, Jamaic
 a Plain\, United States
X-APPLE-STRUCTURED-LOCATION;VALUE=URI;X-ADDRESS=633 Centre Street\, Jamaica
  Plain\, United States;X-APPLE-RADIUS=100;X-TITLE=First Baptist Church in 
 Jamaica Plain:geo:0,0
END:VEVENT
END:VCALENDAR